BEGIN:VCALENDAR
VERSION:2.0
PRODID:-//Australasian Drilling Institute - ECPv6.15.20//NONSGML v1.0//EN
CALSCALE:GREGORIAN
METHOD:PUBLISH
X-WR-CALNAME:Australasian Drilling Institute
X-ORIGINAL-URL:https://drillinginstitute.com
X-WR-CALDESC:Events for Australasian Drilling Institute
REFRESH-INTERVAL;VALUE=DURATION:PT1H
X-Robots-Tag:noindex
X-PUBLISHED-TTL:PT1H
BEGIN:VTIMEZONE
TZID:Australia/Brisbane
BEGIN:STANDARD
TZOFFSETFROM:+1000
TZOFFSETTO:+1000
TZNAME:AEST
DTSTART:20210101T000000
END:STANDARD
END:VTIMEZONE
BEGIN:VEVENT
DTSTART;VALUE=DATE:20230220
DTEND;VALUE=DATE:20230226
DTSTAMP:20260421T013828
CREATED:20221129T055233Z
LAST-MODIFIED:20221129T055241Z
UID:1173-1676851200-1677369599@drillinginstitute.com
SUMMARY:Driller's Assistant Course
DESCRIPTION:
URL:https://drillinginstitute.com/event/drillers-assistant-course-2/
LOCATION:ADI Townsville (Black River)\, ADI Townsville (Black River)\, Australia
CATEGORIES:Program
ORGANIZER;CN="ADI Cairns Office":MAILTO:info@drillinginstitute.com
END:VEVENT
BEGIN:VEVENT
DTSTART;VALUE=DATE:20230213
DTEND;VALUE=DATE:20230219
DTSTAMP:20260421T013828
CREATED:20221129T054738Z
LAST-MODIFIED:20221129T055320Z
UID:1170-1676246400-1676764799@drillinginstitute.com
SUMMARY:Driller's Assistant Course
DESCRIPTION:
URL:https://drillinginstitute.com/event/drillers-assistant-course/
LOCATION:ADI Townsville (Black River)\, ADI Townsville (Black River)\, Australia
CATEGORIES:Program
ORGANIZER;CN="ADI Cairns Office":MAILTO:info@drillinginstitute.com
END:VEVENT
BEGIN:VEVENT
DTSTART;VALUE=DATE:20230210
DTEND;VALUE=DATE:20230211
DTSTAMP:20260421T013828
CREATED:20221129T060203Z
LAST-MODIFIED:20221129T060203Z
UID:1183-1675987200-1676073599@drillinginstitute.com
SUMMARY:Provide First Aid
DESCRIPTION:
URL:https://drillinginstitute.com/event/provide-first-aid-3/
LOCATION:ADI Townsville (Black River)\, ADI Townsville (Black River)\, Australia
CATEGORIES:Workshop
ORGANIZER;CN="ADI Cairns Office":MAILTO:info@drillinginstitute.com
END:VEVENT
BEGIN:VEVENT
DTSTART;VALUE=DATE:20230116
DTEND;VALUE=DATE:20230121
DTSTAMP:20260421T013828
CREATED:20221129T060604Z
LAST-MODIFIED:20221129T060630Z
UID:1193-1673827200-1674259199@drillinginstitute.com
SUMMARY:Driller's Assistant Course
DESCRIPTION:
URL:https://drillinginstitute.com/event/drillers-assistant-course-8/
LOCATION:ADI Cairns\, 27 Aeroglen Dr\, AEROGLEN\, QLD\, 4870\, Australia
CATEGORIES:Program
ORGANIZER;CN="ADI Cairns Office":MAILTO:info@drillinginstitute.com
END:VEVENT
BEGIN:VEVENT
DTSTART;VALUE=DATE:20230112
DTEND;VALUE=DATE:20230113
DTSTAMP:20260421T013828
CREATED:20221129T061147Z
LAST-MODIFIED:20221129T062623Z
UID:1199-1673481600-1673567999@drillinginstitute.com
SUMMARY:Provide First Aid
DESCRIPTION:
URL:https://drillinginstitute.com/event/provide-first-aid-5/
LOCATION:ADI Cairns\, 27 Aeroglen Dr\, AEROGLEN\, QLD\, 4870\, Australia
CATEGORIES:Workshop
ORGANIZER;CN="ADI Cairns Office":MAILTO:info@drillinginstitute.com
END:VEVENT
BEGIN:VEVENT
DTSTART;VALUE=DATE:20221212
DTEND;VALUE=DATE:20221217
DTSTAMP:20260421T013828
CREATED:20221129T060529Z
LAST-MODIFIED:20221129T060757Z
UID:1191-1670803200-1671235199@drillinginstitute.com
SUMMARY:Driller's Assistant Course
DESCRIPTION:
URL:https://drillinginstitute.com/event/drillers-assistant-course-9/
LOCATION:ADI Cairns\, 27 Aeroglen Dr\, AEROGLEN\, QLD\, 4870\, Australia
CATEGORIES:Program
ORGANIZER;CN="ADI Cairns Office":MAILTO:info@drillinginstitute.com
END:VEVENT
BEGIN:VEVENT
DTSTART;VALUE=DATE:20221208
DTEND;VALUE=DATE:20221209
DTSTAMP:20260421T013828
CREATED:20221129T060932Z
LAST-MODIFIED:20221129T060932Z
UID:1197-1670457600-1670543999@drillinginstitute.com
SUMMARY:Provide First Aid
DESCRIPTION:
URL:https://drillinginstitute.com/event/provide-first-aid-4/
LOCATION:ADI Cairns\, 27 Aeroglen Dr\, AEROGLEN\, QLD\, 4870\, Australia
CATEGORIES:Workshop
ORGANIZER;CN="ADI Cairns Office":MAILTO:info@drillinginstitute.com
END:VEVENT
BEGIN:VEVENT
DTSTART;VALUE=DATE:20221128
DTEND;VALUE=DATE:20221203
DTSTAMP:20260421T013828
CREATED:20221129T060341Z
LAST-MODIFIED:20221129T060341Z
UID:1189-1669593600-1670025599@drillinginstitute.com
SUMMARY:Driller's Assistant Course
DESCRIPTION:
URL:https://drillinginstitute.com/event/drillers-assistant-course-7/
LOCATION:ADI Cairns\, 27 Aeroglen Dr\, AEROGLEN\, QLD\, 4870\, Australia
CATEGORIES:Program
ORGANIZER;CN="ADI Cairns Office":MAILTO:info@drillinginstitute.com
END:VEVENT
END:VCALENDAR